BEGIN:VCALENDAR
VERSION:2.0
PRODID:icalendar-ruby
CALSCALE:GREGORIAN
METHOD:PUBLISH
BEGIN:VEVENT
DTSTAMP:20260424T141649Z
UID:249-1715428@unityofnewwestminster.org
DTSTART:20260426T180000Z
DTEND:20260426T190000Z
CLASS:PUBLIC
CREATED:20260423T192013
DESCRIPTION:What if gratitude is not simply a response to life—but a crea
 tive force that shapes it? In this inspiring message\, Rev. Hannelore invi
 tes us to explore the deeper practice of intentional gratitude. As we embr
 ace the feeling and vibration of gratitude\, allowing it to expand with tr
 ust and awareness\, we open the door to greater joy and unexpected blessin
 gs.\nRooted in Unity’s principles of spiritual alignment and creative th
 ought\, this talk reveals how a grateful heart deepens trust\, invites mea
 ningful synchronicities\, and aligns us with life’s natural flow. Discov
 er how gratitude not only recognizes blessings—but becomes a powerful ma
 gnet for them.
LAST-MODIFIED:20260423T192013
LOCATION:1630 Edinburgh St\, New Westminster\, BC V3M 2W8\, Canada
SUMMARY:The Creative Power of Gratitude
URL;VALUE=URI:https://www.unityofnewwestminster.org/events/the-creative-pow
 er-of-gratitude/2026-04-26
ATTACH;FILENAME=1.-SUN-APR26-title-slide.png;FMTTYPE=image/png:https://dq5p
 wpg1q8ru0.cloudfront.net/2026/04/24/02/20/13/a7a00c61-db9e-4ba2-80f5-6fe6c
 fffe6b1/1.-SUN-APR26-title-slide.png
END:VEVENT
END:VCALENDAR
