BEGIN:VCALENDAR
VERSION:2.0
PRODID:icalendar-ruby
CALSCALE:GREGORIAN
METHOD:PUBLISH
BEGIN:VEVENT
DTSTAMP:20260421T123153Z
UID:41-1693537@unityofnewwestminster.org
DTSTART:20260425T180000Z
DTEND:20260426T200000Z
CLASS:PUBLIC
CREATED:20260421T043124
DESCRIPTION:
LAST-MODIFIED:20260421T043124
LOCATION:
SUMMARY:Private Rental
URL;VALUE=URI:https://www.unityofnewwestminster.org/events/private-rental--
 41/2026-04-25
END:VEVENT
END:VCALENDAR
